BEGIN:VCALENDAR
VERSION:2.0
PRODID:icalendar-ruby
CALSCALE:GREGORIAN
METHOD:PUBLISH
BEGIN:VEVENT
DTSTAMP:20260423T203057Z
UID:37-490191@sgiumc.org
DTSTART:20261022T230000Z
DTEND:20261023T010000Z
CLASS:PUBLIC
CREATED:20260423T144204
DESCRIPTION:
LAST-MODIFIED:20260423T144204
LOCATION:201 E Gulf Beach Dr.\, St. George Island\, FL 32328
SUMMARY:AA Meeting
URL;VALUE=URI:https://sgiumc.org/events/aa-meeting/2026-10-22
END:VEVENT
END:VCALENDAR
