BEGIN:VCALENDAR
VERSION:2.0
PRODID:icalendar-ruby
CALSCALE:GREGORIAN
METHOD:PUBLISH
BEGIN:VEVENT
DTSTAMP:20260420T091726Z
UID:93-447303@sgiumc.org
DTSTART:20260504T160000Z
DTEND:20260504T160000Z
CLASS:PUBLIC
CREATED:20260408T110943
DESCRIPTION:Grant Peebles and Jason Baker will be playing on Monday\, May 4
 th at 11:00 a.m. at Holy Family Senior Center in Apalachicola. Bring a bro
 wn bag lunch and a friend. Enjoy Island Espresso coffee and snacks. A sugg
 ested $10 donation helps feed the food insecure in Franklin County.\n 
LAST-MODIFIED:20260408T110943
LOCATION:203 Dr. Frederick S. Humphries St.\, Apalachicola FL 
SUMMARY:CoffeeHouse Concert
URL;VALUE=URI:https://sgiumc.org/events/coffeehouse-concert--93/2026-05-04
ATTACH;FILENAME=coffee.jpeg;FMTTYPE=image/jpeg:https://dq5pwpg1q8ru0.cloudf
 ront.net/2026/04/08/15/09/43/d0ebe71e-47f5-4a83-9306-10a4f8865ab4/coffee.j
 peg
END:VEVENT
END:VCALENDAR
